BEGIN:VCALENDAR
VERSION:2.0
PRODID:-//WoodstreamKidz - ECPv4.8.2//NONSGML v1.0//EN
CALSCALE:GREGORIAN
METHOD:PUBLISH
X-WR-CALNAME:WoodstreamKidz
X-ORIGINAL-URL:https://www.woodstreamkidz.org
X-WR-CALDESC:Events for WoodstreamKidz
BEGIN:VEVENT
DTSTART;TZID=UTC+0:20170409T110000
DTEND;TZID=UTC+0:20170409T120000
DTSTAMP:20260423T172439
CREATED:20170116T170633Z
LAST-MODIFIED:20170116T170633Z
UID:1495-1491735600-1491739200@www.woodstreamkidz.org
SUMMARY:Communion Veiling and Medallion Ceremony
DESCRIPTION:
URL:https://www.woodstreamkidz.org/event/communion-veiling-and-medallion-ceremony/
END:VEVENT
END:VCALENDAR