BEGIN:VCALENDAR
VERSION:2.0
PRODID:-//WoodstreamKidz - ECPv4.8.2//NONSGML v1.0//EN
CALSCALE:GREGORIAN
METHOD:PUBLISH
X-WR-CALNAME:WoodstreamKidz
X-ORIGINAL-URL:https://www.woodstreamkidz.org
X-WR-CALDESC:Events for WoodstreamKidz
BEGIN:VEVENT
DTSTART;TZID=UTC+0:20160506T190000
DTEND;TZID=UTC+0:20160506T204500
DTSTAMP:20260423T190635
CREATED:20160112T173708Z
LAST-MODIFIED:20160112T173708Z
UID:1391-1462561200-1462567500@www.woodstreamkidz.org
SUMMARY:Girl Scout Troop Meeting
DESCRIPTION:
URL:https://www.woodstreamkidz.org/event/girl-scout-troop-meeting-7/
LOCATION:Woodstream Church\, 9800 Lottsford Road\, Mitchellville\, 20721\, United States
END:VEVENT
END:VCALENDAR