BEGIN:VCALENDAR
VERSION:2.0
PRODID:-//WoodstreamKidz - ECPv4.8.2//NONSGML v1.0//EN
CALSCALE:GREGORIAN
METHOD:PUBLISH
X-WR-CALNAME:WoodstreamKidz
X-ORIGINAL-URL:https://www.woodstreamkidz.org
X-WR-CALDESC:Events for WoodstreamKidz
BEGIN:VEVENT
DTSTART;TZID=UTC+0:20160603T190000
DTEND;TZID=UTC+0:20160603T204500
DTSTAMP:20260423T172757
CREATED:20160112T173924Z
LAST-MODIFIED:20160112T173924Z
UID:1393-1464980400-1464986700@www.woodstreamkidz.org
SUMMARY:Girl Scout Troop Meeting
DESCRIPTION:
URL:https://www.woodstreamkidz.org/event/girl-scout-troop-meeting-9/
LOCATION:Woodstream Church\, 9800 Lottsford Road\, Mitchellville\, 20721\, United States
END:VEVENT
END:VCALENDAR