BEGIN:VCALENDAR
VERSION:2.0
PRODID:-//WoodstreamKidz - ECPv4.8.2//NONSGML v1.0//EN
CALSCALE:GREGORIAN
METHOD:PUBLISH
X-WR-CALNAME:WoodstreamKidz
X-ORIGINAL-URL:https://www.woodstreamkidz.org
X-WR-CALDESC:Events for WoodstreamKidz
BEGIN:VEVENT
DTSTART;TZID=UTC+0:20160423T130000
DTEND;TZID=UTC+0:20160423T150000
DTSTAMP:20260423T190745
CREATED:20160112T173546Z
LAST-MODIFIED:20160112T173546Z
UID:1390-1461416400-1461423600@www.woodstreamkidz.org
SUMMARY:Girl Scout's-Women of Achievement Career Forum
DESCRIPTION:
URL:https://www.woodstreamkidz.org/event/girl-scouts-women-of-achievement-career-forum/
LOCATION:Woodstream Church\, 9800 Lottsford Road\, Mitchellville\, 20721\, United States
END:VEVENT
END:VCALENDAR