BEGIN:VCALENDAR
VERSION:2.0
PRODID:-//WoodstreamKidz - ECPv4.8.2//NONSGML v1.0//EN
CALSCALE:GREGORIAN
METHOD:PUBLISH
X-WR-CALNAME:WoodstreamKidz
X-ORIGINAL-URL:https://www.woodstreamkidz.org
X-WR-CALDESC:Events for WoodstreamKidz
BEGIN:VEVENT
DTSTART;TZID=UTC+0:20160220T110000
DTEND;TZID=UTC+0:20160220T143000
DTSTAMP:20260423T221644
CREATED:20160112T174243Z
LAST-MODIFIED:20160112T174531Z
UID:1395-1455966000-1455978600@www.woodstreamkidz.org
SUMMARY:Girls of CHARACTER
DESCRIPTION:
URL:https://www.woodstreamkidz.org/event/girls-of-character-2/
LOCATION:Woodstream Church\, 9800 Lottsford Road\, Mitchellville\, 20721\, United States
ORGANIZER;CN="Erin%20Simmons":MAILTO:GOC@woodstreamchurch.org
END:VEVENT
END:VCALENDAR