BEGIN:VCALENDAR
VERSION:2.0
PRODID:-//WoodstreamKidz - ECPv4.8.2//NONSGML v1.0//EN
CALSCALE:GREGORIAN
METHOD:PUBLISH
X-WR-CALNAME:WoodstreamKidz
X-ORIGINAL-URL:https://www.woodstreamkidz.org
X-WR-CALDESC:Events for WoodstreamKidz
BEGIN:VEVENT
DTSTART;TZID=UTC+0:20170603T120000
DTEND;TZID=UTC+0:20170603T170000
DTSTAMP:20260423T172639
CREATED:20160112T174751Z
LAST-MODIFIED:20160930T002610Z
UID:1399-1496491200-1496509200@www.woodstreamkidz.org
SUMMARY:Girls of CHARACTER-2017 Cotillion
DESCRIPTION:
URL:https://www.woodstreamkidz.org/event/girls-of-character-2016-cotillion/
LOCATION:Woodstream Church\, 9800 Lottsford Road\, Mitchellville\, 20721\, United States
ORGANIZER;CN="Erin%20Simmons":MAILTO:GOC@woodstreamchurch.org
END:VEVENT
END:VCALENDAR