BEGIN:VCALENDAR
VERSION:2.0
PRODID:-//WoodstreamKidz - ECPv4.8.2//NONSGML v1.0//EN
CALSCALE:GREGORIAN
METHOD:PUBLISH
X-WR-CALNAME:WoodstreamKidz
X-ORIGINAL-URL:https://www.woodstreamkidz.org
X-WR-CALDESC:Events for WoodstreamKidz
BEGIN:VEVENT
DTSTART;TZID=UTC+0:20160130T130000
DTEND;TZID=UTC+0:20160130T150000
DTSTAMP:20260423T221727
CREATED:20160112T181453Z
LAST-MODIFIED:20160112T181453Z
UID:1421-1454158800-1454166000@www.woodstreamkidz.org
SUMMARY:Girls of CHARACTER-Tiny Chefs Cooking Demonstration
DESCRIPTION:
URL:https://www.woodstreamkidz.org/event/girls-of-character-tiny-chefs-cooking-demonstration/
LOCATION:Woodstream Church\, 9800 Lottsford Road\, Mitchellville\, 20721\, United States
ORGANIZER;CN="Erin%20Simmons":MAILTO:GOC@woodstreamchurch.org
END:VEVENT
END:VCALENDAR