BEGIN:VCALENDAR
VERSION:2.0
PRODID:-//WoodstreamKidz - ECPv4.8.2//NONSGML v1.0//EN
CALSCALE:GREGORIAN
METHOD:PUBLISH
X-WR-CALNAME:WoodstreamKidz
X-ORIGINAL-URL:https://www.woodstreamkidz.org
X-WR-CALDESC:Events for WoodstreamKidz
BEGIN:VEVENT
DTSTART;VALUE=DATE:20170626
DTEND;VALUE=DATE:20170701
DTSTAMP:20260423T155324
CREATED:20170129T181201Z
LAST-MODIFIED:20170129T181201Z
UID:1503-1498435200-1498867199@www.woodstreamkidz.org
SUMMARY:Performing Arts Camp
DESCRIPTION:
URL:https://www.woodstreamkidz.org/event/performing-arts-camp/
LOCATION:Woodstream Church\, 9800 Lottsford Road\, Mitchellville\, 20721\, United States
END:VEVENT
END:VCALENDAR