BEGIN:VCALENDAR
VERSION:2.0
PRODID:-//WoodstreamKidz - ECPv4.8.2//NONSGML v1.0//EN
CALSCALE:GREGORIAN
METHOD:PUBLISH
X-WR-CALNAME:WoodstreamKidz
X-ORIGINAL-URL:https://www.woodstreamkidz.org
X-WR-CALDESC:Events for WoodstreamKidz
BEGIN:VEVENT
DTSTART;TZID=UTC+0:20160513T190000
DTEND;TZID=UTC+0:20160513T210000
DTSTAMP:20260423T190559
CREATED:20160112T181057Z
LAST-MODIFIED:20160112T181057Z
UID:1420-1463166000-1463173200@www.woodstreamkidz.org
SUMMARY:Young Men of Faith
DESCRIPTION:
URL:https://www.woodstreamkidz.org/event/young-men-of-faith-5/
LOCATION:Woodstream Church\, 9800 Lottsford Road\, Mitchellville\, 20721\, United States
END:VEVENT
END:VCALENDAR